BEGIN:VCALENDAR
VERSION:2.0
PRODID:-//Stefanie Erbrich-Falbe - ECPv6.15.18//NONSGML v1.0//EN
CALSCALE:GREGORIAN
METHOD:PUBLISH
X-WR-CALNAME:Stefanie Erbrich-Falbe
X-ORIGINAL-URL:https://riesenstark.de
X-WR-CALDESC:Veranstaltungen für Stefanie Erbrich-Falbe
REFRESH-INTERVAL;VALUE=DURATION:PT1H
X-Robots-Tag:noindex
X-PUBLISHED-TTL:PT1H
BEGIN:VTIMEZONE
TZID:Europe/Berlin
BEGIN:DAYLIGHT
TZOFFSETFROM:+0100
TZOFFSETTO:+0200
TZNAME:CEST
DTSTART:20250330T010000
END:DAYLIGHT
BEGIN:STANDARD
TZOFFSETFROM:+0200
TZOFFSETTO:+0100
TZNAME:CET
DTSTART:20251026T010000
END:STANDARD
BEGIN:DAYLIGHT
TZOFFSETFROM:+0100
TZOFFSETTO:+0200
TZNAME:CEST
DTSTART:20260329T010000
END:DAYLIGHT
BEGIN:STANDARD
TZOFFSETFROM:+0200
TZOFFSETTO:+0100
TZNAME:CET
DTSTART:20261025T010000
END:STANDARD
BEGIN:DAYLIGHT
TZOFFSETFROM:+0100
TZOFFSETTO:+0200
TZNAME:CEST
DTSTART:20270328T010000
END:DAYLIGHT
BEGIN:STANDARD
TZOFFSETFROM:+0200
TZOFFSETTO:+0100
TZNAME:CET
DTSTART:20271031T010000
END:STANDARD
END:VTIMEZONE
BEGIN:VEVENT
DTSTART;TZID=Europe/Berlin:20260513T163000
DTEND;TZID=Europe/Berlin:20260527T170000
DTSTAMP:20260424T140024
CREATED:20250925T162901Z
LAST-MODIFIED:20251223T065011Z
UID:1497-1778689800-1779901200@riesenstark.de
SUMMARY:Mädchen.Stark.sein
DESCRIPTION:MÄDCHEN.STARK.SEIN \n\n\n\nDu bist einzigartig PUNKT! \nFür Mädchen von Klasse 4 bis 7 \nAber manchmal fühlt es sich nicht so an\, oder? Wenn alles auf TikTok glänzt\, Snapchat nur perfekte Momente zeigt und der Druck wächst\, „jemand“ zu sein\, verliert man schnell das Gefühl für sich selbst.\nIn unserer Mädchengruppe machen wir genau da weiter\, wo Likes aufhören – bei Deinem echten Ich. Drei Treffen\, die Dich stärken. In denen Du herausfindest\, warum Du manchmal so fühlst\, wie Du fühlst. Wo Du erkennst\, was Dich wirklich ausmacht – jenseits von Filtern und Erwartungen. Und wie Du Dich selbst regulieren kannst\, wenn es in Dir mal um Dich und in Dir stark stürmt. Gemeinsam spüren wir alten (gesellschaftlichen) Mustern nach und entdecken Deine persönlichen Stärken\, nehmen auch Deine Schwächen in den Arm – und feiern einfach\, dass Du „Du“ bist.\nWas Du mitbringen darfst: \nEtwas zu trinken\nEin Journal oder Block\nDeine Lieblingsstifte (gern auch viele bunte!)\nUnd natürlich: Dich – so wie Du gerade bist. \n\nTermine: \n\n 
URL:https://riesenstark.de/event/maedchenstark/
LOCATION:VHS Volmetal\, Friedrich-Ebert.Straße 380\, Kierpse
END:VEVENT
BEGIN:VEVENT
DTSTART;TZID=Europe/Berlin:20260530T133000
DTEND;TZID=Europe/Berlin:20260531T150000
DTSTAMP:20260424T140024
CREATED:20260107T153008Z
LAST-MODIFIED:20260110T071517Z
UID:1560-1780147800-1780239600@riesenstark.de
SUMMARY:Frauenkreis in der Wasserburg
DESCRIPTION:Vielleicht sind wir süchtig geworden\, nach Persönlichkeitsoptimierungen\, Coaching-Programmen oder religiösen Inhalten. Diese Suche\, so zu sein\, wie wir sein sollen\, lässt uns oftmals weiter von unserem Selbst entfernen als annähern.\n\n\nDaher entschleunigen wir in einer Wasserburg\, die vor Jahrhunderten von Jahren Ritter und Edelleute beherbergte.\nDiese Ruhe am fröhlichen Bächlein\, umgeben von Findlingen und Laubbäumen\, werden wir der inneren Stille lauschen können.\n\n\nSchamanische Reisen und Klänge\, werden uns im Gewölbekeller Gaben der Erkenntnisse aus unserer Seele servieren.\nGespräche im Einklang der Zeit (der Sommer umschmeichelt den Frühsommer und löst ihn sanft ab)\, mystische Geschichten über die Kelten und das gemeinsame Zubereiten von gesunden Speisen werden uns an diesem Wochenende begleiten.\n\n\n\nMach´ einfach mal anders – und komm´ dazu!\nStefanie
URL:https://riesenstark.de/event/frauenkreis-2/
CATEGORIES:Waldbaden
ATTACH;FMTTYPE=image/jpeg:https://riesenstark.de/wp-content/uploads/2026/01/White-and-Brown-Modern-Women-Retreat-Instagram-Post.jpg
END:VEVENT
END:VCALENDAR